BEGIN:VCALENDAR
VERSION:2.0
PRODID:-//Heimatverein Wolbeck e.V. - ECPv6.15.20//NONSGML v1.0//EN
CALSCALE:GREGORIAN
METHOD:PUBLISH
X-WR-CALNAME:Heimatverein Wolbeck e.V.
X-ORIGINAL-URL:https://www.heimatverein-wolbeck.de
X-WR-CALDESC:Veranstaltungen für Heimatverein Wolbeck e.V.
REFRESH-INTERVAL;VALUE=DURATION:PT1H
X-Robots-Tag:noindex
X-PUBLISHED-TTL:PT1H
BEGIN:VTIMEZONE
TZID:Europe/Berlin
BEGIN:DAYLIGHT
TZOFFSETFROM:+0100
TZOFFSETTO:+0200
TZNAME:CEST
DTSTART:20240331T010000
END:DAYLIGHT
BEGIN:STANDARD
TZOFFSETFROM:+0200
TZOFFSETTO:+0100
TZNAME:CET
DTSTART:20241027T010000
END:STANDARD
BEGIN:DAYLIGHT
TZOFFSETFROM:+0100
TZOFFSETTO:+0200
TZNAME:CEST
DTSTART:20250330T010000
END:DAYLIGHT
BEGIN:STANDARD
TZOFFSETFROM:+0200
TZOFFSETTO:+0100
TZNAME:CET
DTSTART:20251026T010000
END:STANDARD
BEGIN:DAYLIGHT
TZOFFSETFROM:+0100
TZOFFSETTO:+0200
TZNAME:CEST
DTSTART:20260329T010000
END:DAYLIGHT
BEGIN:STANDARD
TZOFFSETFROM:+0200
TZOFFSETTO:+0100
TZNAME:CET
DTSTART:20261025T010000
END:STANDARD
END:VTIMEZONE
BEGIN:VEVENT
DTSTART;TZID=Europe/Berlin:20250125T190000
DTEND;TZID=Europe/Berlin:20250125T223000
DTSTAMP:20260419T152027
CREATED:20250109T195858Z
LAST-MODIFIED:20250109T202628Z
UID:5043-1737831600-1737844200@www.heimatverein-wolbeck.de
SUMMARY:Heimatabend am 25. Januar 2025
DESCRIPTION:Bunter Heimatabend bei Sültemeyer \n Der Heimatverein lädt alle Mitglieder und Interessierten am Samstag\, den 25. Januar 2025 um 19.00 Uhr zum Bunten Heimatabend in die Gaststätte Sültemeyer ein. \nNach der allgemeinen Begrüßung wird leckeres westfälisches Essen serviert\, wahlweise Grünkohl mit Kassler\, Kohlwurst und Bratkartoffeln\, oder für die jenigen die keine glühenden Fans von Grünkohl sind\, Champignonrahmschnitzel mit Bratkartoffeln und Blattsalat. Das Essen kostet pro Person 17\,50 Euro. \nDieses mal garantieren „De Plattköppe“ für einen unterhaltsamen und amüsanten Abend. De Plattköppe sind zwei erstklassige Musiker und Unterhalter aus Münster (näheres auch auf ihrer Website: plattkoeppe.de). Neben ein paar volkstümlichen Liedern gehören auch legendäre Rock- und Pophits und auch unvergessliche Schlager zu ihrem Programm\, denen sie einfach mal ihre freien Übersetzungen ins Plattdeutsche oder auch völlig andere Texte auf Platt verpasst haben. \nDer Eintritt ist frei. Eine Anmeldung ist unbedingt erforderlich und ab sofort möglich bei Rita Bunge unter Telefon 02506/1814 oder Margitta Roer unter 02506/2416. Bei der telefonischen Anmeldung wird auch angegeben für welches Essen man sich entschieden hat. \nDer Heimatverein freut sich auch in diesem Jahr wieder auf eine große Teilnehmerzahl. \nBunter Heimatabend bei Sültemeyer  \n  \n 
URL:https://www.heimatverein-wolbeck.de/veranstaltungen/heimatabend-am-25-januar-2025/
END:VEVENT
END:VCALENDAR