BEGIN:VCALENDAR
VERSION:2.0
PRODID:-//Heimatverein Wolbeck e.V. - ECPv6.15.20//NONSGML v1.0//EN
CALSCALE:GREGORIAN
METHOD:PUBLISH
X-WR-CALNAME:Heimatverein Wolbeck e.V.
X-ORIGINAL-URL:https://www.heimatverein-wolbeck.de
X-WR-CALDESC:Veranstaltungen für Heimatverein Wolbeck e.V.
REFRESH-INTERVAL;VALUE=DURATION:PT1H
X-Robots-Tag:noindex
X-PUBLISHED-TTL:PT1H
BEGIN:VTIMEZONE
TZID:Europe/Berlin
BEGIN:DAYLIGHT
TZOFFSETFROM:+0100
TZOFFSETTO:+0200
TZNAME:CEST
DTSTART:20230326T010000
END:DAYLIGHT
BEGIN:STANDARD
TZOFFSETFROM:+0200
TZOFFSETTO:+0100
TZNAME:CET
DTSTART:20231029T010000
END:STANDARD
BEGIN:DAYLIGHT
TZOFFSETFROM:+0100
TZOFFSETTO:+0200
TZNAME:CEST
DTSTART:20240331T010000
END:DAYLIGHT
BEGIN:STANDARD
TZOFFSETFROM:+0200
TZOFFSETTO:+0100
TZNAME:CET
DTSTART:20241027T010000
END:STANDARD
BEGIN:DAYLIGHT
TZOFFSETFROM:+0100
TZOFFSETTO:+0200
TZNAME:CEST
DTSTART:20250330T010000
END:DAYLIGHT
BEGIN:STANDARD
TZOFFSETFROM:+0200
TZOFFSETTO:+0100
TZNAME:CET
DTSTART:20251026T010000
END:STANDARD
END:VTIMEZONE
BEGIN:VEVENT
DTSTART;TZID=Europe/Berlin:20241115T190000
DTEND;TZID=Europe/Berlin:20241115T213000
DTSTAMP:20260419T182504
CREATED:20240811T150914Z
LAST-MODIFIED:20241102T135558Z
UID:4923-1731697200-1731706200@www.heimatverein-wolbeck.de
SUMMARY:Plattdeutsch\, besinnlich und heiter am 15. November 2024
DESCRIPTION:Wan gi Plaseer an Plattdütsk häbbt\, sin gi alle ut Wolbiek un siene Naoberschop an Fridag\, 15. Niewelmaond (November) üm Klok 7.00 inviteert to´t  Lustern un Singen  in´t Pfarrheim van Sünte Klaos in Wolbiek. Äs alle twee Jaohr steiht auk düssen Aobend wier unner dat Motto „Plattdütsk\, besinnlik un plaseerlik“. \n             \nMarlies Langkamp\,    Egon Becklas und      Bernhard Karrengarn \nhäbbt sik en Kopp drüm makt\, wat m´  an so eenen Aobend so baien könn\, un häbbt Riemsels un Vötällsels von A. Wibbelt\, D. Harhues\, H. Demming\, B. Walbaum\, E. Marcus un annere to´t Vödriägen utsocht. Tüskendüör draff auk en lück sungen wäern. Daoto wärt Siedels vödelt. \nIn en Päösken van 15 Minuten  sall et auk wat to drinken gieben. Intritt wät nich nuomen\, aower üöwer ne Gawe dai sik de Heimatvöain freien. \nEn Beld van 2008. Et luosen daomaols (vrnl):  Bernhard Roer\, Bernhard Bussmann und Bernhard Karrengarn. \n \n 
URL:https://www.heimatverein-wolbeck.de/veranstaltungen/plattdeutsch-besinnlich-und-heiter-am-15-november-2024/
END:VEVENT
END:VCALENDAR