BEGIN:VCALENDAR
VERSION:2.0
PRODID:-//Heimatverein Wolbeck e.V. - ECPv6.15.20//NONSGML v1.0//EN
CALSCALE:GREGORIAN
METHOD:PUBLISH
X-WR-CALNAME:Heimatverein Wolbeck e.V.
X-ORIGINAL-URL:https://www.heimatverein-wolbeck.de
X-WR-CALDESC:Veranstaltungen für Heimatverein Wolbeck e.V.
REFRESH-INTERVAL;VALUE=DURATION:PT1H
X-Robots-Tag:noindex
X-PUBLISHED-TTL:PT1H
BEGIN:VTIMEZONE
TZID:Europe/Berlin
BEGIN:DAYLIGHT
TZOFFSETFROM:+0100
TZOFFSETTO:+0200
TZNAME:CEST
DTSTART:20230326T010000
END:DAYLIGHT
BEGIN:STANDARD
TZOFFSETFROM:+0200
TZOFFSETTO:+0100
TZNAME:CET
DTSTART:20231029T010000
END:STANDARD
BEGIN:DAYLIGHT
TZOFFSETFROM:+0100
TZOFFSETTO:+0200
TZNAME:CEST
DTSTART:20240331T010000
END:DAYLIGHT
BEGIN:STANDARD
TZOFFSETFROM:+0200
TZOFFSETTO:+0100
TZNAME:CET
DTSTART:20241027T010000
END:STANDARD
BEGIN:DAYLIGHT
TZOFFSETFROM:+0100
TZOFFSETTO:+0200
TZNAME:CEST
DTSTART:20250330T010000
END:DAYLIGHT
BEGIN:STANDARD
TZOFFSETFROM:+0200
TZOFFSETTO:+0100
TZNAME:CET
DTSTART:20251026T010000
END:STANDARD
END:VTIMEZONE
BEGIN:VEVENT
DTSTART;TZID=Europe/Berlin:20240918T180000
DTEND;TZID=Europe/Berlin:20240918T200000
DTSTAMP:20260419T211014
CREATED:20240811T143840Z
LAST-MODIFIED:20240910T160048Z
UID:4917-1726682400-1726689600@www.heimatverein-wolbeck.de
SUMMARY:Lambertusspiel am 18. September 2024 - gemeinsam mit dem Förderverein
DESCRIPTION:An der Grundschule Wolbeck Nord findet das traditionelle Lambertussingen statt. \nErstmals beteiligt sich der „Förderverein Grundschule Nord“ gemeinsam mit dem Heimatverein am Lambertusspiel. \nAb 18.00 werden Würstchen gegrillt und erfrischende Getränke angeboten. \nAb 19.00  Uhr beginnt  dort  für Groß und Klein das Lambertusspiel mit ihrer Laterne rund um die bunt geschmückte  Pyramide. Dabei werden die traditionellen Lambertuslieder gesungen. \nZum Abschluss tritt der Buer zum Lied: „Oh Buer\, wat kost din Hei…?“ auf. Mit einer kleinen Süßigkeit belohnt dann der Heimatverein alle teilnehmenden Kinder.
URL:https://www.heimatverein-wolbeck.de/veranstaltungen/lambertusspiel-am-18-september-2024/
END:VEVENT
END:VCALENDAR