BEGIN:VCALENDAR
VERSION:2.0
PRODID:-//Heimatverein Wolbeck e.V. - ECPv6.15.20//NONSGML v1.0//EN
CALSCALE:GREGORIAN
METHOD:PUBLISH
X-WR-CALNAME:Heimatverein Wolbeck e.V.
X-ORIGINAL-URL:https://www.heimatverein-wolbeck.de
X-WR-CALDESC:Veranstaltungen für Heimatverein Wolbeck e.V.
REFRESH-INTERVAL;VALUE=DURATION:PT1H
X-Robots-Tag:noindex
X-PUBLISHED-TTL:PT1H
BEGIN:VTIMEZONE
TZID:Europe/Berlin
BEGIN:DAYLIGHT
TZOFFSETFROM:+0100
TZOFFSETTO:+0200
TZNAME:CEST
DTSTART:20230326T010000
END:DAYLIGHT
BEGIN:STANDARD
TZOFFSETFROM:+0200
TZOFFSETTO:+0100
TZNAME:CET
DTSTART:20231029T010000
END:STANDARD
BEGIN:DAYLIGHT
TZOFFSETFROM:+0100
TZOFFSETTO:+0200
TZNAME:CEST
DTSTART:20240331T010000
END:DAYLIGHT
BEGIN:STANDARD
TZOFFSETFROM:+0200
TZOFFSETTO:+0100
TZNAME:CET
DTSTART:20241027T010000
END:STANDARD
BEGIN:DAYLIGHT
TZOFFSETFROM:+0100
TZOFFSETTO:+0200
TZNAME:CEST
DTSTART:20250330T010000
END:DAYLIGHT
BEGIN:STANDARD
TZOFFSETFROM:+0200
TZOFFSETTO:+0100
TZNAME:CET
DTSTART:20251026T010000
END:STANDARD
END:VTIMEZONE
BEGIN:VEVENT
DTSTART;TZID=Europe/Berlin:20240615T140000
DTEND;TZID=Europe/Berlin:20240615T190000
DTSTAMP:20260420T014024
CREATED:20240506T100008Z
LAST-MODIFIED:20240506T174507Z
UID:4854-1718460000-1718478000@www.heimatverein-wolbeck.de
SUMMARY:Fahrradtour am Samstag\, den 15. Juni 2024
DESCRIPTION:Der Heimatverein Wolbeck lädt zu einer Fahrradtour mit anschließendem Grillen im Pfarrheimgarten ein. Treffpunkt ist um 14.00 Uhr an der Pumpe (Nikolauskirche). Die Fahrtstrecke beträgt ca. 40 km. Die Tour ist auch für Familien mit Kindern geeignet. \nGegen 17.30 Uhr ist die Rückkehr zu erwarten. Dann beginnt das gemeinsame Grillen im Pfarrheimgarten. Eingeladen sind jung und alt\, die sich eine Strecke von 40 km zutrauen. \nAnmeldungen nimmt Rita Bunge\, Tel. 1814 entgegen.
URL:https://www.heimatverein-wolbeck.de/veranstaltungen/fahrradtour-am-samstag-den-15-juni-2024/
END:VEVENT
END:VCALENDAR