BEGIN:VCALENDAR
VERSION:2.0
PRODID:-//Heimatverein Wolbeck e.V. - ECPv6.15.20//NONSGML v1.0//EN
CALSCALE:GREGORIAN
METHOD:PUBLISH
X-WR-CALNAME:Heimatverein Wolbeck e.V.
X-ORIGINAL-URL:https://www.heimatverein-wolbeck.de
X-WR-CALDESC:Veranstaltungen für Heimatverein Wolbeck e.V.
REFRESH-INTERVAL;VALUE=DURATION:PT1H
X-Robots-Tag:noindex
X-PUBLISHED-TTL:PT1H
BEGIN:VTIMEZONE
TZID:Europe/Berlin
BEGIN:DAYLIGHT
TZOFFSETFROM:+0100
TZOFFSETTO:+0200
TZNAME:CEST
DTSTART:20230326T010000
END:DAYLIGHT
BEGIN:STANDARD
TZOFFSETFROM:+0200
TZOFFSETTO:+0100
TZNAME:CET
DTSTART:20231029T010000
END:STANDARD
BEGIN:DAYLIGHT
TZOFFSETFROM:+0100
TZOFFSETTO:+0200
TZNAME:CEST
DTSTART:20240331T010000
END:DAYLIGHT
BEGIN:STANDARD
TZOFFSETFROM:+0200
TZOFFSETTO:+0100
TZNAME:CET
DTSTART:20241027T010000
END:STANDARD
BEGIN:DAYLIGHT
TZOFFSETFROM:+0100
TZOFFSETTO:+0200
TZNAME:CEST
DTSTART:20250330T010000
END:DAYLIGHT
BEGIN:STANDARD
TZOFFSETFROM:+0200
TZOFFSETTO:+0100
TZNAME:CET
DTSTART:20251026T010000
END:STANDARD
END:VTIMEZONE
BEGIN:VEVENT
DTSTART;TZID=Europe/Berlin:20240412T163000
DTEND;TZID=Europe/Berlin:20240412T180000
DTSTAMP:20260420T044054
CREATED:20240311T113434Z
LAST-MODIFIED:20240409T085303Z
UID:4807-1712939400-1712944800@www.heimatverein-wolbeck.de
SUMMARY:Betriebsbesichtigung CTS Crash Test-Service am 12. April 2024 - Veranstaltung ist ausverkauft!
DESCRIPTION:Der Heimsatverein Wolbeck besucht am 12. April 2024 den CTS Crash Test-Service. Treffpunkt ist um 16.30 an der Amelunxenstraße 30 in Wolbeck. \nDa die Teilnehmerzahl begrenzt ist\, ist eine Anmeldung erforderlich bei: Margitta Roer\, Tel. 3948 oder bei Rita Bunge\, Tel. 1814. Eine Anmeldung ist nicht mehr möglich!
URL:https://www.heimatverein-wolbeck.de/veranstaltungen/betriebsbesichtigung-cts-crash-test-service-am-12-april-2024/
END:VEVENT
END:VCALENDAR