BEGIN:VCALENDAR
VERSION:2.0
PRODID:-//Heimatverein Wolbeck e.V. - ECPv6.15.20//NONSGML v1.0//EN
CALSCALE:GREGORIAN
METHOD:PUBLISH
X-ORIGINAL-URL:https://www.heimatverein-wolbeck.de
X-WR-CALDESC:Veranstaltungen für Heimatverein Wolbeck e.V.
REFRESH-INTERVAL;VALUE=DURATION:PT1H
X-Robots-Tag:noindex
X-PUBLISHED-TTL:PT1H
BEGIN:VTIMEZONE
TZID:Europe/Berlin
BEGIN:DAYLIGHT
TZOFFSETFROM:+0100
TZOFFSETTO:+0200
TZNAME:CEST
DTSTART:20230326T010000
END:DAYLIGHT
BEGIN:STANDARD
TZOFFSETFROM:+0200
TZOFFSETTO:+0100
TZNAME:CET
DTSTART:20231029T010000
END:STANDARD
BEGIN:DAYLIGHT
TZOFFSETFROM:+0100
TZOFFSETTO:+0200
TZNAME:CEST
DTSTART:20240331T010000
END:DAYLIGHT
BEGIN:STANDARD
TZOFFSETFROM:+0200
TZOFFSETTO:+0100
TZNAME:CET
DTSTART:20241027T010000
END:STANDARD
BEGIN:DAYLIGHT
TZOFFSETFROM:+0100
TZOFFSETTO:+0200
TZNAME:CEST
DTSTART:20250330T010000
END:DAYLIGHT
BEGIN:STANDARD
TZOFFSETFROM:+0200
TZOFFSETTO:+0100
TZNAME:CET
DTSTART:20251026T010000
END:STANDARD
END:VTIMEZONE
BEGIN:VEVENT
DTSTART;TZID=Europe/Berlin:20240315T190000
DTEND;TZID=Europe/Berlin:20240315T210000
DTSTAMP:20260420T061948
CREATED:20240116T130852Z
LAST-MODIFIED:20240223T115456Z
UID:4780-1710529200-1710536400@www.heimatverein-wolbeck.de
SUMMARY:Tönne Vormann - sein Leben als vielseitiger Wolbecker Künstler
DESCRIPTION:          \nTönne Vormann – Vortrag im Pfarrheim St. Nikolaus \nZu Freitag\, 15. 03. lädt der Heimatverein von 19.00 bis gg. 21.00 Uhr zu einem Vortrag über Tönne Vormann ins Pfarrheim St. Nikolaus Wolbeck ein. Bernhard Karrengarn  porträtiert mit Fotos\, Kurzfilmen und Liedern das Leben und Schaffen von Tönne Vormann und stellt diesen Wolbecker Künstler in den vielfältigen Facetten dar\, in denen er sich über Wolbeck hinaus einen Namen gemacht hat. Vom Konditorlehrling zum Kunstmaler – ein abwechslungsreicher Werdegang über viele Stationen in ganz Deutschland. Auch seine Karriere als Liedermacher und Sänger vor allem plattdeutscher Lieder ist ein Themenschwerpunkt des Abends. Ebenso Vormanns literarische Seite\, seine Liedertexte\, Gedichte\, Hörspiele und Bücher. \nBesonders interessant werden  Filmausschnitte sein\, die Tönne Vormann live in den letzten Jahren seines Lebens zeigen und die in Wolbeck bisher kaum bekannt sind.   \nEine herzliche Einladung geht an alle\, die am Leben und Schaffen von Tönne Vormann interessiert sind\, besonders auch an diejenigen\, die am  Tönne-Vormann-Weg in Wolbeck wohnen. \nEintritt wird nicht erhoben\, aber eine Spende für die Vereinsarbeit wird gern entgegengenommen. \nEs werden aus dem Nachlass Vormanns auch noch LPs und Biographien angeboten. \nIn der Pause werden Getränke verkauft.
URL:https://www.heimatverein-wolbeck.de/veranstaltungen/toenne-vormann-sein-leben-als-vielseitiger-wolbecker-kuenstler/
END:VEVENT
END:VCALENDAR