BEGIN:VCALENDAR
VERSION:2.0
PRODID:-//Heimatverein Wolbeck e.V. - ECPv6.15.20//NONSGML v1.0//EN
CALSCALE:GREGORIAN
METHOD:PUBLISH
X-ORIGINAL-URL:https://www.heimatverein-wolbeck.de
X-WR-CALDESC:Veranstaltungen für Heimatverein Wolbeck e.V.
REFRESH-INTERVAL;VALUE=DURATION:PT1H
X-Robots-Tag:noindex
X-PUBLISHED-TTL:PT1H
BEGIN:VTIMEZONE
TZID:Europe/Berlin
BEGIN:DAYLIGHT
TZOFFSETFROM:+0100
TZOFFSETTO:+0200
TZNAME:CEST
DTSTART:20230326T010000
END:DAYLIGHT
BEGIN:STANDARD
TZOFFSETFROM:+0200
TZOFFSETTO:+0100
TZNAME:CET
DTSTART:20231029T010000
END:STANDARD
BEGIN:DAYLIGHT
TZOFFSETFROM:+0100
TZOFFSETTO:+0200
TZNAME:CEST
DTSTART:20240331T010000
END:DAYLIGHT
BEGIN:STANDARD
TZOFFSETFROM:+0200
TZOFFSETTO:+0100
TZNAME:CET
DTSTART:20241027T010000
END:STANDARD
BEGIN:DAYLIGHT
TZOFFSETFROM:+0100
TZOFFSETTO:+0200
TZNAME:CEST
DTSTART:20250330T010000
END:DAYLIGHT
BEGIN:STANDARD
TZOFFSETFROM:+0200
TZOFFSETTO:+0100
TZNAME:CET
DTSTART:20251026T010000
END:STANDARD
END:VTIMEZONE
BEGIN:VEVENT
DTSTART;TZID=Europe/Berlin:20240112T190000
DTEND;TZID=Europe/Berlin:20240112T223000
DTSTAMP:20260420T091224
CREATED:20231129T111604Z
LAST-MODIFIED:20231229T151440Z
UID:4685-1705086000-1705098600@www.heimatverein-wolbeck.de
SUMMARY:Heimatabend am Freitag\, den 12. Januar 2024
DESCRIPTION:Der traditionelle Heimatabend mit Grünkohlessen findet am 12. Januar 2024 um 19.00 Uhr in  der  Gaststätte Sültemeyer statt. Anmeldungen nehmen ab sofort Rita Bunge\, Tel. 02506/1814 und Josef Genius\, Tel. 02506/7749 entgegen. \nBesonderer  Höhepunkt ist der Besuch von Usch Hollmann\, die wieder lustige Geschichten und Dönekes vorträgt.
URL:https://www.heimatverein-wolbeck.de/veranstaltungen/heimatabend-am-freitag-den-12-januar-2024/
END:VEVENT
END:VCALENDAR