BEGIN:VCALENDAR
VERSION:2.0
PRODID:-//Heimatverein Wolbeck e.V. - ECPv6.15.20//NONSGML v1.0//EN
CALSCALE:GREGORIAN
METHOD:PUBLISH
X-WR-CALNAME:Heimatverein Wolbeck e.V.
X-ORIGINAL-URL:https://www.heimatverein-wolbeck.de
X-WR-CALDESC:Veranstaltungen für Heimatverein Wolbeck e.V.
REFRESH-INTERVAL;VALUE=DURATION:PT1H
X-Robots-Tag:noindex
X-PUBLISHED-TTL:PT1H
BEGIN:VTIMEZONE
TZID:Europe/Berlin
BEGIN:DAYLIGHT
TZOFFSETFROM:+0100
TZOFFSETTO:+0200
TZNAME:CEST
DTSTART:20210328T010000
END:DAYLIGHT
BEGIN:STANDARD
TZOFFSETFROM:+0200
TZOFFSETTO:+0100
TZNAME:CET
DTSTART:20211031T010000
END:STANDARD
BEGIN:DAYLIGHT
TZOFFSETFROM:+0100
TZOFFSETTO:+0200
TZNAME:CEST
DTSTART:20220327T010000
END:DAYLIGHT
BEGIN:STANDARD
TZOFFSETFROM:+0200
TZOFFSETTO:+0100
TZNAME:CET
DTSTART:20221030T010000
END:STANDARD
BEGIN:DAYLIGHT
TZOFFSETFROM:+0100
TZOFFSETTO:+0200
TZNAME:CEST
DTSTART:20230326T010000
END:DAYLIGHT
BEGIN:STANDARD
TZOFFSETFROM:+0200
TZOFFSETTO:+0100
TZNAME:CET
DTSTART:20231029T010000
END:STANDARD
BEGIN:DAYLIGHT
TZOFFSETFROM:+0100
TZOFFSETTO:+0200
TZNAME:CEST
DTSTART:20240331T010000
END:DAYLIGHT
BEGIN:STANDARD
TZOFFSETFROM:+0200
TZOFFSETTO:+0100
TZNAME:CET
DTSTART:20241027T010000
END:STANDARD
END:VTIMEZONE
BEGIN:VEVENT
DTSTART;TZID=Europe/Berlin:20221231T080000
DTEND;TZID=Europe/Berlin:20231125T170000
DTSTAMP:20260424T163158
CREATED:20221124T113534Z
LAST-MODIFIED:20230114T093733Z
UID:4167-1672473600-1700931600@www.heimatverein-wolbeck.de
SUMMARY:Das Jahresprogramm 2023 lädt ein ...
DESCRIPTION:  \n \n                                                                                Prosit Neujahr \nVorstandsmitglieder\, von links: Bernhard Karrengarn\, Franz-Georg Bolwin\, Dieter Beitelhoff\, Marlies Langkamp\, Egon Becklas\, Andreas Schwegmann\, Edith Schmidt\, Werner Reisener\, Alfons Gernholt (es fehlen Josef Leifert und Michael Wortmann) \nDer Heimatverein hat sich in den letzten Jahren trotz Corona immer wieder um ein Jahresprogramm bemüht und dabei eine Reihe von Veranstaltungen auch durchführen können (siehe Menüleiste\, Rückblick). Der Vorstand lädt auch für dieses Jahr wieder zur Teilnahme an einem umfangreichen Jahresprogramm ein (siehe Startseite unten). Es enthält einerseits traditionelle Elemente wie den Bunten Heimatabend\, den Besuch der Niederdeutschen Bühne\, eine Tagesfahrt und das Lambertusspiel\, andererseits weist es auch neue Ideen auf wie einen Wolbeck-Quiz für Familien\, die Zusammenarbeit mit dem Stadtmuseum im Rahmen einer Ausstellung von Tönne-Vormann-Werken oder die Auktion von Vormann-Bildern im Oktober. Die Lieder- und Schlagernacht\, die im letzten Jahr aufgrund  akut angestiegener Corona-Fälle nicht ganz so gut besucht war wie in den Vorjahren\, soll im August wieder viele Sängerinnen und Sänger begeistern. \nDer plattdeutsche Küerkring setzt seine lockeren Gesprächsabende an jedem letzten Mittwoch im Monat um 19.00 Uhr bei Sültemeyer fort. Eingeladen sind alle\, die Freude an der alten münsterländer Sprache habe und zu ihrem Erhalt beitragen wollen. \nZu allen Veranstaltungen sind auch Nichtmitglieder eingeladen. Ein Eintrittspreis wird in der Regel nicht erhoben. \nWie bei vielen Vereinen sind auch beim Heimatverein in der langen Corona-Zeit die Mitgliederzahlen gesunken. Der Vorstand würde sich über Neumitglieder sehr freuen. 
URL:https://www.heimatverein-wolbeck.de/veranstaltungen/das-jahresprogramm-2023-laedt-ein/
END:VEVENT
BEGIN:VEVENT
DTSTART;TZID=Europe/Berlin:20230521T110000
DTEND;TZID=Europe/Berlin:20230521T133000
DTSTAMP:20260424T163158
CREATED:20230408T123836Z
LAST-MODIFIED:20230509T190550Z
UID:4325-1684666800-1684675800@www.heimatverein-wolbeck.de
SUMMARY:"Wer weiß denn sowas?" Wolbeck-Quiz für alle am So\, 21. 05. 2023
DESCRIPTION:  \nDer Heimatverein Wolbeck startet am So\, 21. 05. von 11.00 Uhr bis ca. 13.00 Uhr mit dem Wolbeck-Quiz einen Versuch\, seine Bürgerinnen und Bürger näher an Wolbeck und seine Geschichte heranzuführen. Treffpunkt ist vor dem Pfarrheim St. Nikolaus\, Herrenstr. \nZunächst (ca. 20 Min) geht es dabei darum\, in Quiz-Gruppen von jeweils 4 bis 7 Pers.  anhand von Fotos Winkel und Ecken Wolbecks zu erkennen und zu benennen\, die nicht jedem sofort ins Auge springen (siehe Foto oben). Das kann auch für jüngere Wolbeckerinnen und Wolbecker interessant sein. Im zweiten Teil sollen sich die Teilnehmerinnen und Teilnehmer in den gleichen Gruppen schriftlich einem kurzen Wissenstest von ca. 20 Fragen zur Geschichte Wolbecks stellen\, wobei die meisten Fragen sicherlich lösbar sind\, weil man jeweils Ankreuzmöglichkeiten angeboten bekommt. Der dritte Teil beinhaltet einen Wolbeck-Spaziergang von ca. 70 Min. am Angelseitenweg und zu anderen Stellen des Stadtteils mit Recherche-Aufgaben zu Orten in Wolbeck\, die geschichtlich von Bedeutung sind.\nBesonders eingeladen sind Familien\, die sich in den letzten Jahren in Wolbeck niedergelassen haben. Aber auch einzelne Erwachsene können Gruppen bilden und um die Quizkrone kämpfen. Die besten Gruppen werden mit „Genussgutscheinen“ aus Wolbecker Lokalen  im Gesamtwert von 200\,00 € belohnt. Eine Anmeldung ist nicht notwendig. Die Siegerehrung kann aufgrund der Auswertung der Quizbögen erst am 04. Juni um 11.00 Uhr an gleichem Treffpunkt  stattfinden. \n(Fragen ggf. bitte an B. Karrengarn: 02506 2692)
URL:https://www.heimatverein-wolbeck.de/veranstaltungen/premiere-wolbeck-quiz-fuer-alle-am-so-21-05-ab-11-00-uhr/
END:VEVENT
BEGIN:VEVENT
DTSTART;TZID=Europe/Berlin:20230531T190000
DTEND;TZID=Europe/Berlin:20230531T193000
DTSTAMP:20260424T163158
CREATED:20230516T145508Z
LAST-MODIFIED:20230516T150333Z
UID:4372-1685559600-1685561400@www.heimatverein-wolbeck.de
SUMMARY:Maiandacht am Illa-Andreae-Weg
DESCRIPTION:  \n                   \nDie kath. Kirchengemeinde St. Nikolaus Wolbeck lädt auf Initiative von Franz-Pius Graf von Merveldt zu Mi\, 31. 05. 19.00 Uhr zur Maiandacht im Freien ein. Sie findet an der Marienstatue statt\, die sich früher am Westflügel des Kurhauses Lackmann (siehe Foto 1) befunden hat und die die jetzigen Besitzer der Liegenschaft auch auf Anregung des Heimatvereins hin renovieren und im ehemaligen Kurpark Lackmann (am Illa-Andreae-Weg\, siehe Foto 2) wieder aufstellen ließen\, worüber sich viele Wolbeckerinnen und Wolbecker sehr freuen.
URL:https://www.heimatverein-wolbeck.de/veranstaltungen/maiandacht-am-illa-andreae-weg/
END:VEVENT
END:VCALENDAR