BEGIN:VCALENDAR
VERSION:2.0
PRODID:-//Heimatverein Wolbeck e.V. - ECPv6.15.20//NONSGML v1.0//EN
CALSCALE:GREGORIAN
METHOD:PUBLISH
X-WR-CALNAME:Heimatverein Wolbeck e.V.
X-ORIGINAL-URL:https://www.heimatverein-wolbeck.de
X-WR-CALDESC:Veranstaltungen für Heimatverein Wolbeck e.V.
REFRESH-INTERVAL;VALUE=DURATION:PT1H
X-Robots-Tag:noindex
X-PUBLISHED-TTL:PT1H
BEGIN:VTIMEZONE
TZID:Europe/Berlin
BEGIN:DAYLIGHT
TZOFFSETFROM:+0100
TZOFFSETTO:+0200
TZNAME:CEST
DTSTART:20210328T010000
END:DAYLIGHT
BEGIN:STANDARD
TZOFFSETFROM:+0200
TZOFFSETTO:+0100
TZNAME:CET
DTSTART:20211031T010000
END:STANDARD
BEGIN:DAYLIGHT
TZOFFSETFROM:+0100
TZOFFSETTO:+0200
TZNAME:CEST
DTSTART:20220327T010000
END:DAYLIGHT
BEGIN:STANDARD
TZOFFSETFROM:+0200
TZOFFSETTO:+0100
TZNAME:CET
DTSTART:20221030T010000
END:STANDARD
BEGIN:DAYLIGHT
TZOFFSETFROM:+0100
TZOFFSETTO:+0200
TZNAME:CEST
DTSTART:20230326T010000
END:DAYLIGHT
BEGIN:STANDARD
TZOFFSETFROM:+0200
TZOFFSETTO:+0100
TZNAME:CET
DTSTART:20231029T010000
END:STANDARD
END:VTIMEZONE
BEGIN:VEVENT
DTSTART;TZID=Europe/Berlin:20221001T140000
DTEND;TZID=Europe/Berlin:20221001T180000
DTSTAMP:20260425T023954
CREATED:20220919T184733Z
LAST-MODIFIED:20220919T185426Z
UID:4069-1664632800-1664647200@www.heimatverein-wolbeck.de
SUMMARY:Herbstwanderung zum Gallitzin-Haus in Angelmodde
DESCRIPTION:Anders als im Jahresprogramm angekündigt\, geht die Herbstwanderung in diesem Jahr zum Gallitzin-Haus\, Angelmodder Weg 97 in Angelmodde. \nDie Heimatfreunde Angelmodde stellen in diesem Jahr das Gallitzin-Haus für uns zur Verfügung. \nDie Wanderung beginnt um 14.00 Uhr an der Nikolauskirche und geht über den Esch zum Gallitzin-Haus. Dort erwartet uns der traditionelle Würstchengrill in Verbindung mit kühlen Getränken. Der Vorsitzende der Heimatfreunde Angelmodde Engelbert Honkomp wird uns dort Wissenswertes über die Fürstin Gallitzin und die Geschichte Angelmoddes berichten. Anschließend werden wir beim gemütlichen Beisammensein noch einige Lieder singen und die Gelegenheit nutzen\, das Gallitzin-Haus und die aktuelle Ausstellung zu besichtigen.
URL:https://www.heimatverein-wolbeck.de/veranstaltungen/herbstwanderung-zum-gallitzin-haus-in-angelmodde/
END:VEVENT
END:VCALENDAR