BEGIN:VCALENDAR
VERSION:2.0
PRODID:-//Heimatverein Wolbeck e.V. - ECPv6.15.20//NONSGML v1.0//EN
CALSCALE:GREGORIAN
METHOD:PUBLISH
X-WR-CALNAME:Heimatverein Wolbeck e.V.
X-ORIGINAL-URL:https://www.heimatverein-wolbeck.de
X-WR-CALDESC:Veranstaltungen für Heimatverein Wolbeck e.V.
REFRESH-INTERVAL;VALUE=DURATION:PT1H
X-Robots-Tag:noindex
X-PUBLISHED-TTL:PT1H
BEGIN:VTIMEZONE
TZID:Europe/Berlin
BEGIN:DAYLIGHT
TZOFFSETFROM:+0100
TZOFFSETTO:+0200
TZNAME:CEST
DTSTART:20210328T010000
END:DAYLIGHT
BEGIN:STANDARD
TZOFFSETFROM:+0200
TZOFFSETTO:+0100
TZNAME:CET
DTSTART:20211031T010000
END:STANDARD
BEGIN:DAYLIGHT
TZOFFSETFROM:+0100
TZOFFSETTO:+0200
TZNAME:CEST
DTSTART:20220327T010000
END:DAYLIGHT
BEGIN:STANDARD
TZOFFSETFROM:+0200
TZOFFSETTO:+0100
TZNAME:CET
DTSTART:20221030T010000
END:STANDARD
BEGIN:DAYLIGHT
TZOFFSETFROM:+0100
TZOFFSETTO:+0200
TZNAME:CEST
DTSTART:20230326T010000
END:DAYLIGHT
BEGIN:STANDARD
TZOFFSETFROM:+0200
TZOFFSETTO:+0100
TZNAME:CET
DTSTART:20231029T010000
END:STANDARD
END:VTIMEZONE
BEGIN:VEVENT
DTSTART;TZID=Europe/Berlin:20220911T110000
DTEND;TZID=Europe/Berlin:20220911T123000
DTSTAMP:20260425T040324
CREATED:20220823T210255Z
LAST-MODIFIED:20220910T081323Z
UID:3962-1662894000-1662899400@www.heimatverein-wolbeck.de
SUMMARY:Auf den Spuren der Burgmänner - Führung durch Wolbeck
DESCRIPTION:Im Rahmen der Veranstaltungen zum „Tag des offenen Denkmals“ bietet der Heimatverein Wolbeck in Zusammenarbeit mit Münsters Stadtarchäologin Frau Dr. Aurelia Dickers unter dem Motto „Ein Fall für den Denkmalschutz“ eine Führung durch Wolbeck an. Sie beginnt am 11. Sept. um 11.00 Uhr an der Herrenstr. 22 an der St.-Nikolaus-Kirche Wolbeck. Inhaltlicher Schwerpunkt ist die Geschichte der Wolbecker Burgmannshöfe und die archäologischen Verbindungen zu ihnen. \nEinleitend wird Bernhard Karrengarn Informationen geben  zu den mittelalterlichen Burgmännern und ihren Höfen in Wolbeck. Frau Dr. Dickers wird über die archäologischen Forschungsergebnisse  berichten\, die im Laufe der letzten Jahrzehnte zur Geschichte dieser Burgmannshöfe gewonnen werden konnten.
URL:https://www.heimatverein-wolbeck.de/veranstaltungen/auf-den-spuren-der-burgmaenner-fuehrung-durch-wolbeck/
END:VEVENT
BEGIN:VEVENT
DTSTART;TZID=Europe/Berlin:20220918T190000
DTEND;TZID=Europe/Berlin:20220918T190000
DTSTAMP:20260425T040324
CREATED:20220905T084913Z
LAST-MODIFIED:20220910T081300Z
UID:4011-1663527600-1663527600@www.heimatverein-wolbeck.de
SUMMARY:"Kinder\, kommt runter\, Lambertus ist munter!" - Lambertusspiel an der Grundschule Wolbeck Nord
DESCRIPTION:         \nDas Lambertusspiel ist in Münster und Umgebung ein mehr als 200 Jahre alter Brauch\, ein Kulturgut unserer Heimat. Vor 15 Jahren hat der Heimatverein Wolbeck diese Tradition wieder aufgegriffen. Leider musste die Veranstaltung  wegen der Corona-Pandemie in den letzten beiden Jahren abgesagt werden. Dieses Jahr soll sie jedoch am Namenstag des Heiligen Lambertus wieder stattfinden\, und zwar \nam Sonntag\, 18.09. um 19.00 Uhr\, allerdings nicht mehr im Park des Drostenhofes\, sondern auf dem Schulhof der Grundschule Wolbeck Nord am Grenkuhlenweg. Treffpunkt ist der Eingang der Grundschule.  \nDazu lädt der Heimatverein Jung und Alt\, Groß und Klein herzlich ein. Über viele Kinder mit ihren Lampions würde sich der Vorstand des Heimatvereins sehr freuen. Auch Erwachsene sind willkommen\, ja\, erwünscht\, damit kräftig aus den zur Verfügung gestellten Liederheften mitgesungen wird\, vor allem das wohl bekannteste Lambertuslied „O\, Buer\, wat kost´ dien Hei?“ \nFür den Heimweg gibt es Süßigkeiten.
URL:https://www.heimatverein-wolbeck.de/veranstaltungen/kinder-kommt-runter-lambertus-ist-munter-lambertusspiel-an-der-grundschule-wolbeck-nord/
END:VEVENT
END:VCALENDAR