BEGIN:VCALENDAR
VERSION:2.0
PRODID:-//Heimatverein Wolbeck e.V. - ECPv6.15.20//NONSGML v1.0//EN
CALSCALE:GREGORIAN
METHOD:PUBLISH
X-ORIGINAL-URL:https://www.heimatverein-wolbeck.de
X-WR-CALDESC:Veranstaltungen für Heimatverein Wolbeck e.V.
REFRESH-INTERVAL;VALUE=DURATION:PT1H
X-Robots-Tag:noindex
X-PUBLISHED-TTL:PT1H
BEGIN:VTIMEZONE
TZID:Europe/Berlin
BEGIN:DAYLIGHT
TZOFFSETFROM:+0100
TZOFFSETTO:+0200
TZNAME:CEST
DTSTART:20210328T010000
END:DAYLIGHT
BEGIN:STANDARD
TZOFFSETFROM:+0200
TZOFFSETTO:+0100
TZNAME:CET
DTSTART:20211031T010000
END:STANDARD
BEGIN:DAYLIGHT
TZOFFSETFROM:+0100
TZOFFSETTO:+0200
TZNAME:CEST
DTSTART:20220327T010000
END:DAYLIGHT
BEGIN:STANDARD
TZOFFSETFROM:+0200
TZOFFSETTO:+0100
TZNAME:CET
DTSTART:20221030T010000
END:STANDARD
BEGIN:DAYLIGHT
TZOFFSETFROM:+0100
TZOFFSETTO:+0200
TZNAME:CEST
DTSTART:20230326T010000
END:DAYLIGHT
BEGIN:STANDARD
TZOFFSETFROM:+0200
TZOFFSETTO:+0100
TZNAME:CET
DTSTART:20231029T010000
END:STANDARD
END:VTIMEZONE
BEGIN:VEVENT
DTSTART;TZID=Europe/Berlin:20220831T190000
DTEND;TZID=Europe/Berlin:20220831T210000
DTSTAMP:20260425T052422
CREATED:20220724T100157Z
LAST-MODIFIED:20220823T205123Z
UID:3941-1661972400-1661979600@www.heimatverein-wolbeck.de
SUMMARY:De Küerkring drepp sik wier
DESCRIPTION:Laiwe Lüü\, \nGunsdag\, dän 31. Aarntmaond (August) drepp sik der plattdütske Küerkring Klock sieben wier bi Sültemeyers in Wolbiek. Inladen sind alle\, de Plaseer dao an häbbt\, äs maol wier ne Mul vull Platt to küern\, auk wan et nich gans so akkroat lüt. Wi küert üöwer Guod un de Wiält\, besonners aower üöwer Wolbiek un siene Lüü. \nWi frait us up ju. \nBäänd\, de Baas
URL:https://www.heimatverein-wolbeck.de/veranstaltungen/de-kueerkring-drepp-sik-wier/
END:VEVENT
END:VCALENDAR